BEGIN:VCALENDAR
VERSION:2.0
PRODID:-//ChamberMaster//Event Calendar 2.0//EN
METHOD:PUBLISH
X-PUBLISHED-TTL:P3D
REFRESH-INTERVAL:P3D
CALSCALE:GREGORIAN
BEGIN:VEVENT
DTSTART:20260818T193000Z
DTEND:20260818T203000Z
X-MICROSOFT-CDO-ALLDAYEVENT:FALSE
SUMMARY:CHAMBER HOSTED Ribbon Cutting for Home-based Business
DESCRIPTION:Join us as we celebrate this home-based business:\n\n\n\nCrazy Compass Adventure Travel
X-ALT-DESC;FMTTYPE=text/html:<span style="font-size:14px\;">Join us as we celebrate this home-based business:<br />\n<br />\n<span style="color:#0000CD\;"><strong>Crazy Compass Adventure Travel&nbsp\;</strong></span></span>
LOCATION:Farragut Community Center 239 Jamestowne Blvd. Farragut\, TN 37934
UID:e.3139.14406
SEQUENCE:3
DTSTAMP:20260422T101552Z
URL:https://members.farragutchamber.com/events/details/chamber-hosted-ribbon-cutting-for-home-based-business-14406
END:VEVENT

END:VCALENDAR
