BEGIN:VCALENDAR
VERSION:2.0
PRODID:-//ChamberMaster//Event Calendar 2.0//EN
METHOD:PUBLISH
X-PUBLISHED-TTL:P3D
REFRESH-INTERVAL:P3D
CALSCALE:GREGORIAN
BEGIN:VEVENT
DTSTART:20260428T160000Z
DTEND:20260428T180000Z
X-MICROSOFT-CDO-ALLDAYEVENT:FALSE
SUMMARY:Member hosted She Builds. She Profits. She Plans.
DESCRIPTION:Financial Freedom for Entrepreneurs!\n\nEntrepreneurs don't just build businesses   we build legacies.\n\nAt this month's Event\, we're diving into a roundtable conversation centered on:\n\n? Financial clarity\n\n? Retirement planning as a business owner\n\n? Wealth-building strategies\n\n? Creating long-term security and freedom\n\nThis interactive experience is designed to spark meaningful connections while equipping you with tools to plan wisely for your future.\n\nCome network with purpose.\n\nCome plan with intention.\n\nCome build beyond today.\n\nWe've brought together a powerful panel of professionals who are committed to serving women entrepreneurs with wisdom\, strategy\, and heart. Each expert brings specialized knowledge in financial planning and future preparation\, helping you align today's success with tomorrow's security. Because thriving in business should also mean thriving in your future.
X-ALT-DESC;FMTTYPE=text/html:<p>Financial Freedom for Entrepreneurs!</p>\n\n<p>Entrepreneurs don&rsquo\;t just build businesses &mdash\; we build legacies.</p>\n\n<p>At this month&rsquo\;s Event\, we&rsquo\;re diving into a roundtable conversation centered on:</p>\n\n<p>? Financial clarity</p>\n\n<p>? Retirement planning as a business owner</p>\n\n<p>? Wealth-building strategies</p>\n\n<p>? Creating long-term security and freedom</p>\n\n<p>This interactive experience is designed to spark meaningful connections while equipping you with tools to plan wisely for your future.</p>\n\n<p>Come network with purpose.</p>\n\n<p>Come plan with intention.</p>\n\n<p>Come build beyond today.</p>\n\n<p>We&rsquo\;ve brought together a powerful panel of professionals who are committed to serving women entrepreneurs with wisdom\, strategy\, and heart. Each expert brings specialized knowledge in financial planning and future preparation\, helping you align today&rsquo\;s success with tomorrow&rsquo\;s security. Because thriving in business should also mean thriving in your future.</p>\n
LOCATION:Hilton Knoxville Airport 2001 Alcoa Highway Alcoa\, TN 37701 United States Get the direction
UID:e.3139.14411
SEQUENCE:3
DTSTAMP:20260420T190450Z
URL:https://members.farragutchamber.com/events/details/member-hosted-she-builds-she-profits-she-plans-14411
END:VEVENT

END:VCALENDAR
