BEGIN:VCALENDAR
VERSION:2.0
PRODID:-//ChamberMaster//Event Calendar 2.0//EN
METHOD:PUBLISH
X-PUBLISHED-TTL:P3D
REFRESH-INTERVAL:P3D
CALSCALE:GREGORIAN
BEGIN:VEVENT
DTSTART:20260411T220000Z
DTEND:20260412T010000Z
X-MICROSOFT-CDO-ALLDAYEVENT:FALSE
SUMMARY:Member hosted STAR's 21st-Annual Bridles & Blue Jeans
DESCRIPTION:Bridles and Blue Jeans is Shangri-La Therapeutic Academy of Riding's largest annual fundraising event which takes place at the heart of STAR\, our barn and arena in Lenoir City. Forget the tuxedos and evening gowns\, this is a casual event where you may come dressed in your favorite blue jeans and boots! We relax and enjoy the company of friends during this genuinely lighthearted evening as we gather in support of ?STAR participants with disabilities or other special challenges. \n\n\n\nThe event will begin at 6:00 p.m.\, with a VIP Reception set for 5:00 p.m. for certain sponsorship levels.\n\n\n\nPlease contact Director of Development Angela Bartlett for more information regarding sponsorship opportunities or attending in 2026! ?angela@rideatstar.org | 865-988-4711
X-ALT-DESC;FMTTYPE=text/html:<strong>Bridles and Blue Jeans is Shangri-La Therapeutic Academy of Riding&#39\;s largest annual fundraising event which takes place at the heart of STAR\, our barn and arena in Lenoir City. Forget the tuxedos and evening gowns\, this is a casual event where you may come dressed in your favorite blue jeans and boots! We relax and enjoy the company of friends during this genuinely lighthearted evening as we gather in support of ?STAR participants with disabilities or other special challenges.&nbsp\;<br />\n<br />\nThe event will begin at 6:00 p.m.\, with a VIP Reception set for 5:00 p.m. for certain sponsorship levels.</strong><br />\n<br />\n<em><strong>Please contact Director of Development Angela Bartlett for more information regarding sponsorship opportunities or attending in 2026!&nbsp\;</strong><strong>?<a href="mailto:angela@rideatstar.org" style="color: rgb(50\, 116\, 172)\; transition: opacity 300ms ease-in-out\;">angela@rideatstar.org</a>&nbsp\;</strong>|&nbsp\;<strong><a href="tel:8659884711" style="color: rgb(50\, 116\, 172)\; transition: opacity 300ms ease-in-out\;">865-988-4711</a></strong></em>
LOCATION:11800 Highway 11 E. Lenoir City\, TN 37772
UID:e.3139.14093
SEQUENCE:3
DTSTAMP:20260422T050734Z
URL:https://members.farragutchamber.com/events/details/member-hosted-star-s-21st-annual-bridles-blue-jeans-14093
END:VEVENT

END:VCALENDAR
