BEGIN:VCALENDAR
VERSION:2.0
PRODID:-//ChamberMaster//Event Calendar 2.0//EN
METHOD:PUBLISH
X-PUBLISHED-TTL:P3D
REFRESH-INTERVAL:P3D
CALSCALE:GREGORIAN
BEGIN:VEVENT
DTSTART:20260422T200000Z
DTEND:20260422T230000Z
X-MICROSOFT-CDO-ALLDAYEVENT:FALSE
SUMMARY:Member hosted Topgolf Knoxville National Administrative Professionals Day 2026
DESCRIPTION:The MVPs of the office deserve a real celebration\, and we are delivering.\n\nOur incredible administrative professionals are getting the full treatment at Topgolf Knoxville on Wednesday\, April 22nd from 4 to 7 PM\, and this one is completely on us. Free. Exclusive. Just for you and a guest.\n\nCome out for an afternoon of free gameplay\, great food and drinks\, and the kind of good company that makes a Tuesday feel like a Friday. (Yes\, we know it is a Wednesday. You get the idea.)\n\nThis is our way of saying thank you to the people who hold everything together\, day in and day out. You keep the wheels turning\, and it is past time we raised a toast to that.\n\nSpots are limited\, so grab yours before they are gone.\n\nRSVP deadline: April 15th\n\nMissed the cutoff? No worries. Send a quick email and we will get you added. We want you there.
X-ALT-DESC;FMTTYPE=text/html:<p><span style="font-size:18px">The MVPs of the office deserve a real celebration\, and we are delivering.</span></p>\n\n<p><span style="font-size:18px">Our incredible administrative professionals are getting the full treatment at Topgolf Knoxville on Wednesday\, April 22nd from 4 to 7 PM\, and this one is completely on us. Free. Exclusive. Just for you and a guest.</span></p>\n\n<p><span style="font-size:18px">Come out for an afternoon of free gameplay\, great food and drinks\, and the kind of good company that makes a Tuesday feel like a Friday. (Yes\, we know it is a Wednesday. You get the idea.)</span></p>\n\n<p><span style="font-size:18px">This is our way of saying thank you to the people who hold everything together\, day in and day out. You keep the wheels turning\, and it is past time we raised a toast to that.</span></p>\n\n<p><span style="font-size:18px">Spots are limited\, so grab yours before they are gone.</span></p>\n\n<p><span style="font-size:18px"><strong>RSVP deadline: April 15th</strong></span></p>\n\n<p><span style="font-size:18px">Missed the cutoff? No worries. Send a quick email and we will get you added. We want you there.</span></p>\n
LOCATION:Topgolf Knoxville 11400 Outlet Dr. Farragut\, TN 37932
UID:e.3139.14128
SEQUENCE:3
DTSTAMP:20260420T190205Z
URL:https://members.farragutchamber.com/events/details/member-hosted-topgolf-knoxville-national-administrative-professionals-day-2026-14128
END:VEVENT

END:VCALENDAR
