BEGIN:VCALENDAR
VERSION:2.0
PRODID:-//ChamberMaster//Event Calendar 2.0//EN
METHOD:PUBLISH
X-PUBLISHED-TTL:P3D
REFRESH-INTERVAL:P3D
CALSCALE:GREGORIAN
BEGIN:VEVENT
DTSTART:20260609T200000Z
DTEND:20260609T220000Z
X-MICROSOFT-CDO-ALLDAYEVENT:FALSE
SUMMARY:Tennessee Valley Regional Chamber Networking Event
DESCRIPTION:Connect bigger\, reach farther\, and put your business in front of the entire region.\n\n\n\nJoin seven area Chambers of Commerce: Anderson County Chamber\, Loudon County Chamber\,  Blount Partnership\, Roane Chamber\, Farragut West Knox Chamber\, Oak Ridge Chamber and Monroe Chamber for one high-energy networking event designed to spark real opportunities.
X-ALT-DESC;FMTTYPE=text/html:<span style="font-size:14px\;"><span style="font-family:tahoma\;"><span style="color:black\;">Connect bigger\, reach farther\, and put your business in front of the entire region.</span><br />\n<br />\n<span style="color:black\;">Join seven area Chambers of Commerce: <strong>Anderson County Chamber</strong>\, <strong>Loudon County Chamber</strong>\,&nbsp\; <strong>Blount Partnership</strong>\, <strong>Roane Chamber\, Farragut West Knox Chamber\, Oak Ridge Chamber </strong>and <strong>Monroe Chamber </strong>for one high-energy networking event designed to spark real opportunities.&nbsp\;</span></span></span>
LOCATION:Hilton Knoxville Airport 2001 Alcoa Highway Alcoa\, TN 37701
UID:e.3139.14416
SEQUENCE:3
DTSTAMP:20260422T174836Z
URL:https://members.farragutchamber.com/events/details/tennessee-valley-regional-chamber-networking-event-14416
END:VEVENT

END:VCALENDAR
